BEGIN:VCALENDAR
VERSION:2.0
PRODID:-//JumpStart Ventures - ECPv6.13.2.1//NONSGML v1.0//EN
CALSCALE:GREGORIAN
METHOD:PUBLISH
X-WR-CALNAME:JumpStart Ventures
X-ORIGINAL-URL:https://jumpstart.vc
X-WR-CALDESC:Events for JumpStart Ventures
REFRESH-INTERVAL;VALUE=DURATION:PT1H
X-Robots-Tag:noindex
X-PUBLISHED-TTL:PT1H
BEGIN:VTIMEZONE
TZID:America/Detroit
BEGIN:DAYLIGHT
TZOFFSETFROM:-0500
TZOFFSETTO:-0400
TZNAME:EDT
DTSTART:20240310T070000
END:DAYLIGHT
BEGIN:STANDARD
TZOFFSETFROM:-0400
TZOFFSETTO:-0500
TZNAME:EST
DTSTART:20241103T060000
END:STANDARD
END:VTIMEZONE
BEGIN:VEVENT
DTSTART;TZID=America/Detroit:20240515T113000
DTEND;TZID=America/Detroit:20240515T123000
DTSTAMP:20260423T100940
CREATED:20240213T151114Z
LAST-MODIFIED:20240213T151114Z
UID:2422-1715772600-1715776200@jumpstart.vc
SUMMARY:The State of AI
DESCRIPTION:This quarterly\, 30-minute webinar with additional Q&A is designed specifically for tech entrepreneurs and small business owners looking to harness the potential of AI\, with a special emphasis on generative models like ChatGPT. With the AI landscape changing by the minute\, be sure to come discover the latest insights\, tools\, and actionable strategies to start leveraging AI in your business today. \nJoin Bradley Reynolds of Expedient to learn: \n💡 The basics of AI\, including generative models\, and why they are relevant to tech entrepreneurs and small businesses \n🌍 Real-world examples of how AI is being used by businesses of all sizes\, with a focus on actionable strategies \nWebinar attendees will leave with an understanding of: \n🛠️ Available tools that can be implemented immediately to leverage AI\, particularly generative models like ChatGPT\, \n⚖️ Best practices for using AI in a responsible and ethical manner\, and \n🚀 How to confidently integrate AI into your business to enhance efficiency\, innovation\, and growth today. \n\nWebinars are open to all JumpStart clients\, partners\, and community businesses. Registration is required to receive the webinar link.
URL:https://jumpstart.vc/event/the-state-of-ai-2/
ATTACH;FMTTYPE=image/jpeg:https://jumpstart.vc/wp-content/uploads/2024/02/31278ebc-fd59-4a17-87a2-91a1e1cc2aeb.jpg
END:VEVENT
BEGIN:VEVENT
DTSTART;TZID=America/Detroit:20240606T120000
DTEND;TZID=America/Detroit:20240606T140000
DTSTAMP:20260423T100940
CREATED:20240523T145809Z
LAST-MODIFIED:20240523T150608Z
UID:2536-1717675200-1717682400@jumpstart.vc
SUMMARY:The 5 SaaS Risks Every Founder Should Know (and How to Beat Them)
DESCRIPTION:Jumpstart is pleased to partner with Founder Shield\, tech-enabled insurance brokerage whose core clientele are start-ups and venture-backed companies. They are bringing their experience and industry knowledge to discuss the 5 SaaS Risks Every Founder Should Know … and How to BEAT THEM! \nWorried about the risks of launching your tech dream? This webinar unpacks the biggest challenges startups face\, and how insurance can be your safety net. The goal is to help founders understand basic insurance coverages and provide a roadmap detailing when each coverage is needed. \nTopics discussed will include: \n\nCoverages you need when raising money from VCs or Angels\nThe types of coverages you might see in client and partner contracts\nHow to position yourself for the best cyber insurance rates\nIns and outs of Workers Compensation\n\nWebinar attendees will leave with an understanding of: \n\nCoverages you are likely to need as a SaaS company and how to maximize growth and minimize risk at every stage of growth\nA full picture of your insurance risk roadmap so you can make smarter choices\n\nWebinars are open to all JumpStart clients\, partners\, and community businesses. Registration is required to receive the webinar link. \nRegister To Attend
URL:https://jumpstart.vc/event/the-5-saas-risks-every-founder-should-know-and-how-to-beat-them/
CATEGORIES:Webinar
ATTACH;FMTTYPE=image/jpeg:https://jumpstart.vc/wp-content/uploads/2024/05/2024-June-Webinar-The-5-SaaS-Risks-FB-1200x630-1.jpg
END:VEVENT
BEGIN:VEVENT
DTSTART;TZID=America/Detroit:20240807T113000
DTEND;TZID=America/Detroit:20240807T123000
DTSTAMP:20260423T100940
CREATED:20240513T160936Z
LAST-MODIFIED:20240515T193011Z
UID:2529-1723030200-1723033800@jumpstart.vc
SUMMARY:The State of AI
DESCRIPTION:This quarterly\, 30-minute webinar with additional Q&A is designed specifically for tech entrepreneurs and small business owners looking to harness the potential of AI\, with a special emphasis on generative models like ChatGPT. With the AI landscape changing by the minute\, be sure to come discover the latest insights\, tools\, and actionable strategies to start leveraging AI in your business today. \nJoin Bradley Reynolds of Expedient to learn: \n💡 The basics of AI\, including generative models\, and why they are relevant to tech entrepreneurs and small businesses \n🌍 Real-world examples of how AI is being used by businesses of all sizes\, with a focus on actionable strategies \nWebinar attendees will leave with an understanding of: \n🛠️ Available tools that can be implemented immediately to leverage AI\, particularly generative models like ChatGPT\, \n⚖️ Best practices for using AI in a responsible and ethical manner\, and \n🚀 How to confidently integrate AI into your business to enhance efficiency\, innovation\, and growth today. \n\nWebinars are open to all JumpStart clients\, partners\, and community businesses. Registration is required to receive the webinar link.
URL:https://jumpstart.vc/event/the-state-of-ai-3/
ATTACH;FMTTYPE=image/jpeg:https://jumpstart.vc/wp-content/uploads/2024/02/31278ebc-fd59-4a17-87a2-91a1e1cc2aeb.jpg
END:VEVENT
END:VCALENDAR