BEGIN:VCALENDAR
VERSION:2.0
PRODID:-//JumpStart Ventures - ECPv6.13.2.1//NONSGML v1.0//EN
CALSCALE:GREGORIAN
METHOD:PUBLISH
X-WR-CALNAME:JumpStart Ventures
X-ORIGINAL-URL:https://jumpstart.vc
X-WR-CALDESC:Events for JumpStart Ventures
REFRESH-INTERVAL;VALUE=DURATION:PT1H
X-Robots-Tag:noindex
X-PUBLISHED-TTL:PT1H
BEGIN:VTIMEZONE
TZID:America/Detroit
BEGIN:DAYLIGHT
TZOFFSETFROM:-0500
TZOFFSETTO:-0400
TZNAME:EDT
DTSTART:20230312T070000
END:DAYLIGHT
BEGIN:STANDARD
TZOFFSETFROM:-0400
TZOFFSETTO:-0500
TZNAME:EST
DTSTART:20231105T060000
END:STANDARD
BEGIN:DAYLIGHT
TZOFFSETFROM:-0500
TZOFFSETTO:-0400
TZNAME:EDT
DTSTART:20240310T070000
END:DAYLIGHT
BEGIN:STANDARD
TZOFFSETFROM:-0400
TZOFFSETTO:-0500
TZNAME:EST
DTSTART:20241103T060000
END:STANDARD
END:VTIMEZONE
BEGIN:VEVENT
DTSTART;TZID=America/Detroit:20240214T113000
DTEND;TZID=America/Detroit:20240214T123000
DTSTAMP:20260423T184734
CREATED:20240201T144631Z
LAST-MODIFIED:20240201T144631Z
UID:2407-1707910200-1707913800@jumpstart.vc
SUMMARY:The State of AI
DESCRIPTION:This quarterly\, 30-minute webinar with additional Q&A is designed specifically for tech entrepreneurs and small business owners looking to harness the potential of AI\, with a special emphasis on generative models like ChatGPT. With the AI landscape changing by the minute\, be sure to come discover the latest insights\, tools\, and actionable strategies to start leveraging AI in your business today. \nJoin Bradley Reynolds of Expedient to learn: \n💡 The basics of AI\, including generative models\, and why they are relevant to tech entrepreneurs and small businesses \n🌍 Real-world examples of how AI is being used by businesses of all sizes\, with a focus on actionable strategies \nWebinar attendees will leave with an understanding of: \n🛠️ Available tools that can be implemented immediately to leverage AI\, particularly generative models like ChatGPT\, \n⚖️ Best practices for using AI in a responsible and ethical manner\, and \n🚀 How to confidently integrate AI into your business to enhance efficiency\, innovation\, and growth today. \n\nWebinars are open to all JumpStart clients\, partners\, and community businesses. Registration is required to receive the webinar link.
URL:https://jumpstart.vc/event/the-state-of-ai/
ATTACH;FMTTYPE=image/jpeg:https://jumpstart.vc/wp-content/uploads/2024/02/31278ebc-fd59-4a17-87a2-91a1e1cc2aeb.jpg
END:VEVENT
BEGIN:VEVENT
DTSTART;TZID=America/Detroit:20240131T180000
DTEND;TZID=America/Detroit:20240131T200000
DTSTAMP:20260423T184734
CREATED:20240103T154817Z
LAST-MODIFIED:20240108T202849Z
UID:2385-1706724000-1706731200@jumpstart.vc
SUMMARY:Cleveland January Ohio Tech Happy Hour
DESCRIPTION:This casual monthly happy hour is for new and old Ohioans interested in connecting with fellow entrepreneurs\, investors\, and tech folks! \nSponsors: \n1) JumpStart Ventures ~ JumpStart Ventures deploys Pre-Seed\, Seed and Series A funding to tech startups as they move through critical phases of development. With more than $140M under management across multiple funds\, we invest in high-potential\, early-stage startups throughout Ohio and the Midwest. Learn more on jumpstart.vc \n2) Big Kitty Labs is a Software Design and Software Development Agency with 14 years of experience in deploying high-performance mobile and web solutions. Learn more on bigkittylabs.com \n3) Book+Street provides comprehensive finance and administration services for private and pre-IPO companies\, and also design and administer equity-based compensation plans that make it easy for startups to start off right\, right from the start. Learn more on bookandstreet.com \nEvent organizers: \n1) Colaeb.com – See why Contractors\, Startups\, Small Businesses\, and Fortune 50 companies benefit from our platform to improve their growth strategy. \n2) Cohatch.com – COhatch is a new way to think about coworking and office space for flexible work close to home\, with over 20 locations in Ohio! \nParking is available on the street\, a small parking lot is connected to COhatch\, and there is a parking garage across the street.
URL:https://jumpstart.vc/event/cleveland-january-ohio-tech-happy-hour/
LOCATION:COhatch Ohio City\, 2814 Detroit Ave.\, Cleveland\, OH\, 44113\, United States
ATTACH;FMTTYPE=image/png:https://jumpstart.vc/wp-content/uploads/2024/01/Cleveland-Jan-.png
END:VEVENT
BEGIN:VEVENT
DTSTART;TZID=America/Detroit:20240111T180000
DTEND;TZID=America/Detroit:20240111T200000
DTSTAMP:20260423T184734
CREATED:20240103T154424Z
LAST-MODIFIED:20240103T155033Z
UID:2382-1704996000-1705003200@jumpstart.vc
SUMMARY:Cincinnati January Ohio Tech Happy Hour
DESCRIPTION:This casual monthly happy hour is for new and old Ohioans interested in connecting with fellow entrepreneurs\, investors\, and tech folks! \n  \nSponsors: \n1) APG Office Furnishings creates spaces that turn possibility into reality. By dreaming big\, acting with purpose\, and pushing limits\, we’ll create a great space that propels your organization forward. Learn more on apgof.com \n2) JumpStart Ventures ~ JumpStart Ventures deploys Pre-Seed\, Seed and Series A funding to tech startups as they move through critical phases of development. With more than $140M under management across multiple funds\, we invest in high-potential\, early-stage startups throughout Ohio and the Midwest. Learn more on jumpstart.vc \n3) Big Kitty Labs is a Software Design and Software Development Agency with 14 years of experience in deploying high-performance mobile and web solutions. Learn more on bigkittylabs.com \n4) Book+Street provides comprehensive finance and administration services for private and pre-IPO companies\, and also design and administer equity-based compensation plans that make it easy for startups to start off right\, right from the start. Learn more on bookandstreet.com \nEvent organizers: \n1) Colaeb.com – See why Contractors\, Startups\, Small Businesses\, and Fortune 50 companies benefit from our platform to improve their growth strategy. \n 
URL:https://jumpstart.vc/event/cincinnati-january-ohio-tech-happy-hour/
LOCATION:APG Office Furnishings\, 310 Culvert St #400\, Cincinnati\, OH\, 45202\, United States
ATTACH;FMTTYPE=image/png:https://jumpstart.vc/wp-content/uploads/2024/01/cinci.png
END:VEVENT
BEGIN:VEVENT
DTSTART;TZID=America/Detroit:20240110T180000
DTEND;TZID=America/Detroit:20240110T200000
DTSTAMP:20260423T184734
CREATED:20240103T153956Z
LAST-MODIFIED:20240103T155925Z
UID:2380-1704909600-1704916800@jumpstart.vc
SUMMARY:Columbus January Ohio Tech Happy Hour
DESCRIPTION:This casual monthly happy hour is for new and old Ohioans interested in connecting with fellow entrepreneurs\, investors\, and tech folks! \nSponsors: \n1) Big Kitty Labs is a Software Design and Software Development Agency with 14 years of experience in deploying high-performance mobile and web solutions. Learn more on bigkittylabs.com \n2) Rev1 Ventures provides seed stage venture capital funding in Columbus\, Ohio along with startup services\, space\, mentoring\, and connections. \n3) JumpStart Ventures ~ JumpStart Ventures deploys Pre-Seed\, Seed and Series A funding to tech startups as they move through critical phases of development. With more than $140M under management across multiple funds\, we invest in high-potential\, early-stage startups throughout Ohio and the Midwest. Learn more on jumpstart.vc \n4) Book+Street – They provide comprehensive finance and administration services for private and pre-IPO companies\, and also design and administer equity-based compensation plans that make it easy for startups to start off right\, right from the start. Learn more bookandstreet.com \n  \nEvent organizers: \n1) Colaeb.com – See why Contractors\, Startups\, Small Businesses\, and Fortune 50 companies benefit from our platform to improve their growth strategy. \n2) cohatch.com – CoHatch is a new way to think about coworking and office space for flexible work close to home\, with over 20 locations in Ohio! A notable shout-out to North High Brewing!
URL:https://jumpstart.vc/event/columbus-january-ohio-tech-happy-hour/
LOCATION:COhatch Polaris\, 1554 Polaris Pkwy suite 325\, Columbus\, OH\, United States
ATTACH;FMTTYPE=image/png:https://jumpstart.vc/wp-content/uploads/2024/01/columbus.png
END:VEVENT
BEGIN:VEVENT
DTSTART;TZID=America/Detroit:20231115T180000
DTEND;TZID=America/Detroit:20231115T200000
DTSTAMP:20260423T184734
CREATED:20231107T173342Z
LAST-MODIFIED:20231107T173342Z
UID:2249-1700071200-1700078400@jumpstart.vc
SUMMARY:Cleveland November Ohio Tech Happy Hour
DESCRIPTION:This casual monthly happy hour is for new and old Ohioans interested in connecting with fellow entrepreneurs\, investors\, and tech folks! \nSponsors: \n1) JumpStart Ventures ~ JumpStart Ventures deploys Pre-Seed\, Seed and Series A funding to tech startups as they move through critical phases of development. With more than $140M under management across multiple funds\, we invest in high-potential\, early-stage startups throughout Ohio and the Midwest. Learn more on jumpstart.vc \n2) Big Kitty Labs is a Software Design and Software Development Agency with 14 years of experience in deploying high-performance mobile and web solutions. Learn more on bigkittylabs.com \nEvent organizers: \n1) Colaeb.com – See why Contractors\, Startups\, Small Businesses\, and Fortune 50 companies benefit from our platform to improve their growth strategy. \n2) Cohatch.com – COhatch is a new way to think about coworking and office space for flexible work close to home\, with over 20 locations in Ohio! \nParking is available on the street\, a small parking lot is connected to COhatch\, and there is a parking garage across the street.
URL:https://jumpstart.vc/event/cleveland-november-ohio-tech-happy-hour/
LOCATION:COhatch Ohio City\, 2814 Detroit Ave.\, Cleveland\, OH\, 44113\, United States
ATTACH;FMTTYPE=image/png:https://jumpstart.vc/wp-content/uploads/2023/11/Cle.png
END:VEVENT
BEGIN:VEVENT
DTSTART;TZID=America/Detroit:20231109T180000
DTEND;TZID=America/Detroit:20231109T200000
DTSTAMP:20260423T184734
CREATED:20231107T170847Z
LAST-MODIFIED:20231107T171004Z
UID:2238-1699552800-1699560000@jumpstart.vc
SUMMARY:Cincinnati November Ohio Tech Happy Hour
DESCRIPTION:This casual monthly happy hour is for new and old Ohioans interested in connecting with fellow entrepreneurs\, investors\, and tech folks! \n  \nSponsors: \n1) Frost Brown Todd is a full-service law firm with more than 575 lawyers operating in 16 offices across eight states and Washington\, D.C. Dedicated to refining the art of client service\, we leverage technical\, industry\, and legal knowledge and hands-on experience to serve a diverse client base\, from leading multinationals to small\, entrepreneurial companies. \n  \n2) JumpStart Ventures ~ JumpStart Ventures deploys Pre-Seed\, Seed\, and Series A funding to tech startups as they move through critical phases of development. With more than $140M under management across multiple funds\, we invest in high-potential\, early-stage startups throughout Ohio and the Midwest. Learn more on jumpstart.vc \n  \n3) Big Kitty Labs is a Software Design and Software Development Agency with 14 years of experience in deploying high-performance mobile and web solutions. Learn more on bigkittylabs.com
URL:https://jumpstart.vc/event/cincinnati-november-ohio-tech-happy-hour/
LOCATION:Frost Brown Todd\, 301 E 4th St #3300\, Cincinnati\, OH\, United States
ATTACH;FMTTYPE=image/png:https://jumpstart.vc/wp-content/uploads/2023/11/CIN.png
END:VEVENT
BEGIN:VEVENT
DTSTART;TZID=America/Detroit:20231108T180000
DTEND;TZID=America/Detroit:20231108T200000
DTSTAMP:20260423T184734
CREATED:20231107T173017Z
LAST-MODIFIED:20231107T173017Z
UID:2245-1699466400-1699473600@jumpstart.vc
SUMMARY:Columbus November Ohio Tech Happy Hour
DESCRIPTION:This casual monthly happy hour is for new and old Ohioans interested in connecting with fellow entrepreneurs\, investors\, and tech folks! \nSponsors: \n1) Big Kitty Labs is a Software Design and Software Development Agency with 14 years of experience in deploying high-performance mobile and web solutions. Learn more on bigkittylabs.com \n2) Rev1 Ventures provides seed stage venture capital funding in Columbus\, Ohio along with startup services\, space\, mentoring\, and connections. \n3) JumpStart Ventures ~ JumpStart Ventures deploys Pre-Seed\, Seed and Series A funding to tech startups as they move through critical phases of development. With more than $140M under management across multiple funds\, we invest in high-potential\, early-stage startups throughout Ohio and the Midwest. Learn more on jumpstart.vc \n4) Book+Street – They provide comprehensive finance and administration services for private and pre-IPO companies\, and also design and administer equity-based compensation plans that make it easy for startups to start off right\, right from the start. Learn more bookandstreet.com \n  \nEvent organizers: \n1) Colaeb.com – See why Contractors\, Startups\, Small Businesses\, and Fortune 50 companies benefit from our platform to improve their growth strategy. \n2) cohatch.com – CoHatch is a new way to think about coworking and office space for flexible work close to home\, with over 20 locations in Ohio! A notable shout-out to North High Brewing!
URL:https://jumpstart.vc/event/columbus-november-ohio-tech-happy-hour/
LOCATION:COhatch Polaris\, 1554 Polaris Pkwy suite 325\, Columbus\, OH\, United States
ATTACH;FMTTYPE=image/png:https://jumpstart.vc/wp-content/uploads/2023/11/Columbus.png
END:VEVENT
END:VCALENDAR