BEGIN:VCALENDAR
VERSION:2.0
PRODID:-//JumpStart Ventures - ECPv6.13.2.1//NONSGML v1.0//EN
CALSCALE:GREGORIAN
METHOD:PUBLISH
X-ORIGINAL-URL:https://jumpstart.vc
X-WR-CALDESC:Events for JumpStart Ventures
REFRESH-INTERVAL;VALUE=DURATION:PT1H
X-Robots-Tag:noindex
X-PUBLISHED-TTL:PT1H
BEGIN:VTIMEZONE
TZID:America/Detroit
BEGIN:DAYLIGHT
TZOFFSETFROM:-0500
TZOFFSETTO:-0400
TZNAME:EDT
DTSTART:20240310T070000
END:DAYLIGHT
BEGIN:STANDARD
TZOFFSETFROM:-0400
TZOFFSETTO:-0500
TZNAME:EST
DTSTART:20241103T060000
END:STANDARD
END:VTIMEZONE
BEGIN:VEVENT
DTSTART;TZID=America/Detroit:20240214T113000
DTEND;TZID=America/Detroit:20240214T123000
DTSTAMP:20260423T065117
CREATED:20240201T144631Z
LAST-MODIFIED:20240201T144631Z
UID:2407-1707910200-1707913800@jumpstart.vc
SUMMARY:The State of AI
DESCRIPTION:This quarterly\, 30-minute webinar with additional Q&A is designed specifically for tech entrepreneurs and small business owners looking to harness the potential of AI\, with a special emphasis on generative models like ChatGPT. With the AI landscape changing by the minute\, be sure to come discover the latest insights\, tools\, and actionable strategies to start leveraging AI in your business today. \nJoin Bradley Reynolds of Expedient to learn: \n💡 The basics of AI\, including generative models\, and why they are relevant to tech entrepreneurs and small businesses \n🌍 Real-world examples of how AI is being used by businesses of all sizes\, with a focus on actionable strategies \nWebinar attendees will leave with an understanding of: \n🛠️ Available tools that can be implemented immediately to leverage AI\, particularly generative models like ChatGPT\, \n⚖️ Best practices for using AI in a responsible and ethical manner\, and \n🚀 How to confidently integrate AI into your business to enhance efficiency\, innovation\, and growth today. \n\nWebinars are open to all JumpStart clients\, partners\, and community businesses. Registration is required to receive the webinar link.
URL:https://jumpstart.vc/event/the-state-of-ai/
ATTACH;FMTTYPE=image/jpeg:https://jumpstart.vc/wp-content/uploads/2024/02/31278ebc-fd59-4a17-87a2-91a1e1cc2aeb.jpg
END:VEVENT
END:VCALENDAR